BEGIN:VCALENDAR
VERSION:2.0
PRODID:-//SeuSite//Evento WP//PT-BR
CALSCALE:GREGORIAN
BEGIN:VEVENT
UID:134332-69e512cc09000
DTSTAMP:20260419T173716Z
DTSTART;TZID=America/Sao_Paulo:20260209T100000
DTEND;TZID=America/Sao_Paulo:20260209T110000
SUMMARY:Volta as aulas Calouros UniMAX
DESCRIPTION:Sejam bem-vindos à UniMAX! O Receptivo de Calouros é o ponto de partida da sua jornada acadêmica. Preparamos este momento para que você se sinta em casa desde o primeiro dia\, conhecendo a infraestrutura tecnológica que será o cenário da sua formação profissional. Nossa equipe está pronta para orientar você sobre o campus\, apresentar seus novos colegas e garantir que sua integração seja o reflexo do que acreditamos: educação de excelência com foco no seu sucesso. Página do evento: https://unimax.grupounieduk.com.br/eventos/volta-as-aulas-calouros-unimax/
LOCATION:Av. Nove de Dezembro\, 460 - Jardim Pedroso\, Indaiatuba
END:VEVENT
END:VCALENDAR
