BEGIN:VCALENDAR
VERSION:2.0
PRODID:-//SeuSite//Evento WP//PT-BR
CALSCALE:GREGORIAN
BEGIN:VEVENT
UID:132694-69e74751a4cac
DTSTAMP:20260421T094553Z
DTSTART;TZID=America/Sao_Paulo:20250927T080000
DTEND;TZID=America/Sao_Paulo:20250927T121500
SUMMARY:Treinamento de RCP
DESCRIPTION:Treinamento com Alunos sobre RCP (Ressuscitação Cardiopulmonar) \, Será ministrado pela Prof Dienifer e liderado por dois alunos de enfermagem\, que estarão agindo no dia\, 

Pegar entrevista do Aluno Matheus Antônio que irá ministra o treinamento e algum outro aluno que estiver assistindo Página do evento: https://unimax.grupounieduk.com.br/eventos/treinamento-de-rcp/
LOCATION:Av. Nove de Dezembro\, 460 - Jardim Pedroso\, Indaiatuba
END:VEVENT
END:VCALENDAR
