BEGIN:VCALENDAR
VERSION:2.0
PRODID:-//SeuSite//Evento WP//PT-BR
CALSCALE:GREGORIAN
BEGIN:VEVENT
UID:131720-69e4cc9c0e552
DTSTAMP:20260419T123748Z
DTSTART;TZID=America/Sao_Paulo:20251117T190000
DTEND;TZID=America/Sao_Paulo:20251117T220000
SUMMARY:Tech Day UniMAX
DESCRIPTION:Evento para as Engenharias  Página do evento: https://unimax.grupounieduk.com.br/eventos/tech-day-unimax/
LOCATION:Avenida Nove de Dezembro 460\, Jardim Pedroso\, UniMAX Campus I 
END:VEVENT
END:VCALENDAR
