BEGIN:VCALENDAR
VERSION:2.0
PRODID:-//SeuSite//Evento WP//PT-BR
CALSCALE:GREGORIAN
BEGIN:VEVENT
UID:132702-69e73425e046b
DTSTAMP:20260421T082405Z
DTSTART;TZID=America/Sao_Paulo:20250929T190000
DTEND;TZID=America/Sao_Paulo:20250929T220000
SUMMARY:Semana do Coração - Medicina
DESCRIPTION:É uma espécie de Simpósio voltado para acadêmicos\, residentes e especialistas falando dos temas mais prevalentes da cardiologia
Contaremos com a presença de cardiologistas influentes em nossa região e no Brasil Página do evento: https://unimax.grupounieduk.com.br/eventos/semana-do-coracao-medicina/
LOCATION:Av. Nove de Dezembro\, 460 - Jardim Pedroso\, Indaiatuba
END:VEVENT
END:VCALENDAR
