BEGIN:VCALENDAR
VERSION:2.0
PRODID:-//SeuSite//Evento WP//PT-BR
CALSCALE:GREGORIAN
BEGIN:VEVENT
UID:133300-69e4ccc7c23c7
DTSTAMP:20260419T123831Z
DTSTART;TZID=America/Sao_Paulo:20251111T190000
DTEND;TZID=America/Sao_Paulo:20251111T220000
SUMMARY:Semana da Biomedicina
DESCRIPTION:Este simpósio apresenta um panorama abrangente sobre as múltiplas áreas de atuação do biomédico\, destacando caminhos profissionais\, possibilidades de especialização e os desafios que acompanham uma carreira em constante evolução.

O evento contará com a participação de especialistas que abordarão temas fundamentais para compreender a amplitude e a importância da Biomedicina na atualidade:

Luciana Guimarães
Tema: O biomédico na estética
Um olhar sobre o crescimento da área estética e o papel do biomédico como protagonista em procedimentos avançados e humanizados.

Elizena Belizário
Tema: O biomédico na microbiologia industrial
Uma análise sobre a atuação do biomédico em processos industriais\, controle de qualidade e inovação tecnológica no setor.

Eduarda Fernandes Cintra
Tema: O biomédico na nutrição funcional
Discussão sobre a interface entre Biomedicina e nutrição funcional\, ampliando horizontes para práticas integrativas e personalizadas.

Mediação
Dra. Viviane Ferre de Souza Rodrigues
Biomédica\, Mestre em Bioquímica pela USP Ribeirão Preto e Doutora em Engenharia Química pela UNICAMP. Gestora do curso de Biomedicina da UniMAX. Página do evento: https://unimax.grupounieduk.com.br/eventos/semana-da-biomedicina/
LOCATION:Av. Nove de Dezembro\, 460 - Jardim Pedroso\, Indaiatuba
END:VEVENT
END:VCALENDAR
