BEGIN:VCALENDAR
VERSION:2.0
PRODID:-//SeuSite//Evento WP//PT-BR
CALSCALE:GREGORIAN
BEGIN:VEVENT
UID:133308-69e4ccc48e0a5
DTSTAMP:20260419T123828Z
DTSTART;TZID=America/Sao_Paulo:20251113T191500
DTEND;TZID=America/Sao_Paulo:20251113T214500
SUMMARY:Semana da Biomedicina
DESCRIPTION:Apresentação de Simulações das Diversas Áreas de Atuação do Profissional Biomédico

Esta atividade oferece aos participantes uma imersão prática nas múltiplas áreas de atuação do biomédico\, por meio de simulações que reproduzem situações reais do cotidiano profissional.

As demonstrações abrangem diferentes segmentos da Biomedicina — como análises clínicas\, estética\, microbiologia\, imagem\, pesquisa e áreas emergentes — permitindo que os estudantes compreendam\, na prática\, as habilidades\, competências e responsabilidades que cada especialidade exige.

A proposta é ampliar a visão dos futuros profissionais\, aproximando teoria e prática\, desenvolvendo raciocínio crítico e revelando a versatilidade e a importância do biomédico no cenário atual da saúde\, ciência e tecnologia. Página do evento: https://unimax.grupounieduk.com.br/eventos/semana-da-biomedicina-4/
LOCATION:Av. Nove de Dezembro\, 460 - Jardim Pedroso\, Indaiatuba
END:VEVENT
END:VCALENDAR
