BEGIN:VCALENDAR
VERSION:2.0
PRODID:-//SeuSite//Evento WP//PT-BR
CALSCALE:GREGORIAN
BEGIN:VEVENT
UID:132696-69e7341c775e2
DTSTAMP:20260421T082356Z
DTSTART;TZID=America/Sao_Paulo:20250927T083000
DTEND;TZID=America/Sao_Paulo:20250927T120000
SUMMARY:Segunda Edição do Simpósio de Atualizações em Pesquisa Clínica
DESCRIPTION:Um encontro para quem busca compreender os avanços\, debater desafios e explorar as oportunidades que estão moldando o futuro da pesquisa clínica no Brasil.

Com a presença de especialistas de referência\, o simpósio apresentará uma programação robusta\, abordando a Lei de Pesquisa Clínica\, a qualificação dos serviços de saúde\, a pesquisa translacional e o empreendedorismo\, além de inovação digital e cenários de investimento. Página do evento: https://unimax.grupounieduk.com.br/eventos/segunda-edicao-do-simposio-de-atualizacoes-em-pesquisa-clinica/
LOCATION:Av. Nove de Dezembro\, 460 - Jardim Pedroso\, Indaiatuba
END:VEVENT
END:VCALENDAR
