BEGIN:VCALENDAR
VERSION:2.0
PRODID:-//SeuSite//Evento WP//PT-BR
CALSCALE:GREGORIAN
BEGIN:VEVENT
UID:133318-69e4ccda4fc70
DTSTAMP:20260419T123850Z
DTSTART;TZID=America/Sao_Paulo:20251119T190000
DTEND;TZID=America/Sao_Paulo:20251119T210000
SUMMARY:SAU 2025 - Semana da Arquitetura e Urbanismo
DESCRIPTION:A Semana da Arquitetura e Urbanismo contará com um ciclo de visitas técnicas realizadas entre os dias 17 e 19 de novembro. Durante essa experiência\, os alunos terão a oportunidade de conhecer espaços\, obras e ambientes que dialogam diretamente com os conteúdos estudados no semestre.

As visitas têm como objetivo aproximar teoria e prática\, ampliando o repertório dos estudantes\, fortalecendo o olhar crítico e proporcionando vivências reais que enriquecem o processo de aprendizagem em Arquitetura e Urbanismo. Página do evento: https://unimax.grupounieduk.com.br/eventos/sau-2025-semana-da-arquitetura-e-urbanismo-3/
LOCATION:Av. Nove de Dezembro\, 460 - Jardim Pedroso\, Indaiatuba
END:VEVENT
END:VCALENDAR
