BEGIN:VCALENDAR
VERSION:2.0
PRODID:-//SeuSite//Evento WP//PT-BR
CALSCALE:GREGORIAN
BEGIN:VEVENT
UID:132700-69e747513c46b
DTSTAMP:20260421T094553Z
DTSTART;TZID=America/Sao_Paulo:20250927T083000
DTEND;TZID=America/Sao_Paulo:20250927T100000
SUMMARY:Roda de Conversa - Setembro Amarelo
DESCRIPTION:Ação dos alunos da medicina na UBS Umuarama\, de conscientização da população sobre o Setembro Amarelo e a importância da vida! Página do evento: https://unimax.grupounieduk.com.br/eventos/roda-de-conversa-setembro-amarelo/
LOCATION:Av. Nove de Dezembro\, 460 - Jardim Pedroso\, Indaiatuba
END:VEVENT
END:VCALENDAR
