BEGIN:VCALENDAR
VERSION:2.0
PRODID:-//SeuSite//Evento WP//PT-BR
CALSCALE:GREGORIAN
BEGIN:VEVENT
UID:134321-69e51300d9e2c
DTSTAMP:20260419T173808Z
DTSTART;TZID=America/Sao_Paulo:20260203T133000
DTEND;TZID=America/Sao_Paulo:20260203T170000
SUMMARY:Reunião de Abertura Segunda Série.
DESCRIPTION:A Reunião de Abertura da Segunda Série (ou 6º ano / 11º e 12º períodos) é o encontro de boas-vindas ao ano final da faculdade de Medicina. Se a primeira série do internato foi o "batismo de fogo"\, a segunda série é o "treinamento de elite" antes da autonomia total.

Nesta fase\, o nível de cobrança aumenta significativamente\, pois o estudante está a poucos meses de obter o CRM. Página do evento: https://unimax.grupounieduk.com.br/eventos/reuniao-de-abertura-segunda-serie/
LOCATION:Av. Nove de Dezembro\, 460 - Jardim Pedroso\, Indaiatuba
END:VEVENT
END:VCALENDAR
