BEGIN:VCALENDAR
VERSION:2.0
PRODID:-//SeuSite//Evento WP//PT-BR
CALSCALE:GREGORIAN
BEGIN:VEVENT
UID:134319-69e51300b6186
DTSTAMP:20260419T173808Z
DTSTART;TZID=America/Sao_Paulo:20260203T090000
DTEND;TZID=America/Sao_Paulo:20260203T120000
SUMMARY:Reunião de Abertura Primeira Série.
DESCRIPTION:Uma Reunião de Abertura para a Primeira Série (9º semestre/5º ano) do curso de Medicina é o evento que oficializa a entrada dos estudantes no Internato. É um momento de "pé no chão"\, onde o foco sai dos livros e vai para o ambiente hospitalar e ambulatorial.

Diferente de uma recepção festiva\, essa reunião tem um caráter estratégico\, ético e orientador. Página do evento: https://unimax.grupounieduk.com.br/eventos/reuniao-de-abertura-primeira-serie/
LOCATION:Av. Nove de Dezembro\, 460 - Jardim Pedroso\, Indaiatuba
END:VEVENT
END:VCALENDAR
