BEGIN:VCALENDAR
VERSION:2.0
PRODID:-//SeuSite//Evento WP//PT-BR
CALSCALE:GREGORIAN
BEGIN:VEVENT
UID:134222-69e4fa83cc2f4
DTSTAMP:20260419T155339Z
DTSTART;TZID=America/Sao_Paulo:20260127T090000
DTEND;TZID=America/Sao_Paulo:20260127T120000
SUMMARY:Reunião de Abertura - GEF/SFC: Terceira Série Turma VII
DESCRIPTION:Na medicina\, a sigla GEF/SFC refere-se a uma condição renal séria chamada Glomeruloesclerose Segmentar e Focal (também conhecida pela sigla em inglês FSGS - Focal Segmental Glomerulosclerosis). Página do evento: https://unimax.grupounieduk.com.br/eventos/reuniao-de-abertura-gef-sfc-terceira-serie-turma-vii/
LOCATION:Av. Nove de Dezembro\, 460 - Jardim Pedroso\, Indaiatuba
END:VEVENT
END:VCALENDAR
