BEGIN:VCALENDAR
VERSION:2.0
PRODID:-//SeuSite//Evento WP//PT-BR
CALSCALE:GREGORIAN
BEGIN:VEVENT
UID:134414-69e5132edc30c
DTSTAMP:20260419T173854Z
DTSTART;TZID=America/Sao_Paulo:20260203T133000
DTEND;TZID=America/Sao_Paulo:20260203T170000
SUMMARY:Reunião Abertura UniMAX - SFC - Primeira Série Turma VIII
DESCRIPTION:A Reunião de Abertura é o encontro de boas-vindas ao ano final da faculdade de Medicina.  Página do evento: https://unimax.grupounieduk.com.br/eventos/reuniao-abertura-unimax-sfc-primeira-serie-turma-viii/
LOCATION:Av. Nove de Dezembro\, 460 - Jardim Pedroso\, Indaiatuba
END:VEVENT
END:VCALENDAR
