BEGIN:VCALENDAR
VERSION:2.0
PRODID:-//SeuSite//Evento WP//PT-BR
CALSCALE:GREGORIAN
BEGIN:VEVENT
UID:134314-69e37404709ae
DTSTAMP:20260418T120732Z
DTSTART;TZID=America/Sao_Paulo:20260203T183000
DTEND;TZID=America/Sao_Paulo:20260203T213000
SUMMARY:Receptivo Volta as Aulas - Veteranos HVET
DESCRIPTION:O Receptivo Volta às Aulas é o marco inicial do nosso semestre letivo. Mais do que organizar o fluxo pelo campus\, este momento foi planejado para celebrar o reencontro e renovar nosso compromisso com a formação e o futuro de cada estudante. Nossa equipe está preparada para acolher veteranos e calouros com entusiasmo\, oferecendo suporte desde os acessos principais até as unidades acadêmicas\, garantindo que o retorno à vida universitária seja seguro\, integrado e repleto de novas perspectivas acadêmicas e profissionais. Página do evento: https://unimax.grupounieduk.com.br/eventos/receptivo-volta-as-aulas-veteranos-hvet-2/
LOCATION:Fazenda-Espírito Santo - Rod. João Ceccon
END:VEVENT
END:VCALENDAR
