BEGIN:VCALENDAR
VERSION:2.0
PRODID:-//SeuSite//Evento WP//PT-BR
CALSCALE:GREGORIAN
BEGIN:VEVENT
UID:134416-69e513009271f
DTSTAMP:20260419T173808Z
DTSTART;TZID=America/Sao_Paulo:20260203T183000
DTEND;TZID=America/Sao_Paulo:20260203T213000
SUMMARY:Receptivo Volta as Aulas UniMAX - Veteranos Cmapus I
DESCRIPTION:O semestre começou e a nossa energia está no 100%! ⚡

Veterano\, as portas da UniMAX se abrem novamente para você continuar transformando o seu futuro. Preparamos um receptivo especial para marcar esse retorno: é hora de reencontrar os amigos\, trocar experiências e dar o primeiro passo rumo ao sucesso profissional deste ano. 🚀

A jornada continua e o topo é logo ali. Bem-vindos de volta ao ecossistema de inovação que não para! 🎓✨
 Página do evento: https://unimax.grupounieduk.com.br/eventos/receptivo-volta-as-aulas-unimax-veteranos-cmapus-i/
LOCATION:Av. Nove de Dezembro\, 460 - Jardim Pedroso\, Indaiatuba
END:VEVENT
END:VCALENDAR
