BEGIN:VCALENDAR
VERSION:2.0
PRODID:-//SeuSite//Evento WP//PT-BR
CALSCALE:GREGORIAN
BEGIN:VEVENT
UID:134475-69e512da8732a
DTSTAMP:20260419T173730Z
DTSTART;TZID=America/Sao_Paulo:20260209T190000
DTEND;TZID=America/Sao_Paulo:20260209T220000
SUMMARY:Receptivo Volta as aulas - Calouros UniMAX
DESCRIPTION:Sejam bem-vindos à UniMAX! O Receptivo de Calouros é o ponto de partida da sua jornada acadêmica. Preparamos este momento para que você se sinta em casa desde o primeiro dia\, conhecendo a infraestrutura tecnológica que será o cenário da sua formação profissional. 
Conheçam os Cursos: 
Ciência da Computação
Farmácia
Biomedicina
Engenharia Civil
Engenharia de Controle e Automação
Engenharia de Produção
Engenharia Mecânica
Fisioterapia
Inteligência Artificial
Nutrição
Pedagogia Página do evento: https://unimax.grupounieduk.com.br/eventos/receptivo-volta-as-aulas-calouros-unimax/
LOCATION:Auditório UniMAX 
END:VEVENT
END:VCALENDAR
