BEGIN:VCALENDAR
VERSION:2.0
PRODID:-//SeuSite//Evento WP//PT-BR
CALSCALE:GREGORIAN
BEGIN:VEVENT
UID:134477-69e3559156b76
DTSTAMP:20260418T095737Z
DTSTART;TZID=America/Sao_Paulo:20260210T190000
DTEND;TZID=America/Sao_Paulo:20260210T213000
SUMMARY:Receptivo Ingressantes UniMAX
DESCRIPTION:Sejam bem-vindos à UniMAX! O Receptivo de Calouros é o ponto de partida da sua jornada acadêmica. Preparamos este momento para que você se sinta em casa desde o primeiro dia\, conhecendo a infraestrutura tecnológica que será o cenário da sua formação profissional. 

Conheçam os Cursos: 
Administração
Arquitetura e Urbanismo
Ciências Contábeis
Direito
Educação Física
Enfermagem
Recursos Humanos
Marketing
Logística
Psicologia Página do evento: https://unimax.grupounieduk.com.br/eventos/receptivo-ingressantes-unimax/
LOCATION:Auditório UniMAX 
END:VEVENT
END:VCALENDAR
