BEGIN:VCALENDAR
VERSION:2.0
PRODID:-//SeuSite//Evento WP//PT-BR
CALSCALE:GREGORIAN
BEGIN:VEVENT
UID:134422-69e52a2f524bc
DTSTAMP:20260419T191703Z
DTSTART;TZID=America/Sao_Paulo:20260211T190000
DTEND;TZID=America/Sao_Paulo:20260211T220000
SUMMARY:Receptivo Ingressantes Biomedicina UniMAX.
DESCRIPTION:Para quem entende que o invisível aos olhos é onde se encontram as respostas para a vida\, o retorno às aulas na UniMAX é mais do que um novo semestre — é o momento de aprofundar sua busca pela cura e pelo diagnóstico preciso.

 Página do evento: https://unimax.grupounieduk.com.br/eventos/receptivo-ingressantes-biomedicina-unimax/
LOCATION:Av. Nove de Dezembro\, 460 - Jardim Pedroso\, Indaiatuba
END:VEVENT
END:VCALENDAR
