BEGIN:VCALENDAR
VERSION:2.0
PRODID:-//SeuSite//Evento WP//PT-BR
CALSCALE:GREGORIAN
BEGIN:VEVENT
UID:134419-69e51300356ac
DTSTAMP:20260419T173808Z
DTSTART;TZID=America/Sao_Paulo:20260204T190000
DTEND;TZID=America/Sao_Paulo:20260204T220000
SUMMARY:Receptivo Arquitetura e Urbanismo UniMAX
DESCRIPTION:Para quem entende que uma linha no papel é o início de uma nova forma de viver\, o retorno às aulas na UniMAX é mais do que um novo semestre — é o momento de projetar o amanhã.

 Página do evento: https://unimax.grupounieduk.com.br/eventos/receptivo-arquitetura-e-urbanismo-unimax/
LOCATION:Av. Nove de Dezembro\, 460 - Jardim Pedroso\, Indaiatuba
END:VEVENT
END:VCALENDAR
