BEGIN:VCALENDAR
VERSION:2.0
PRODID:-//SeuSite//Evento WP//PT-BR
CALSCALE:GREGORIAN
BEGIN:VEVENT
UID:134437-69e512ff751a2
DTSTAMP:20260419T173807Z
DTSTART;TZID=America/Sao_Paulo:20260205T190000
DTEND;TZID=America/Sao_Paulo:20260205T213000
SUMMARY:Receptivo Alunos - Farmácia UniMAX
DESCRIPTION:Boas-vindas\, Veteranos de Farmácia! 💊 É hora de transformar teoria em segurança para o paciente. Nosso Receptivo foca no alinhamento de novos protocolos\, organização de estágios e no fortalecimento da sua liderança clínica. Estamos prontos para apoiar sua evolução na gestão do cuidado farmacêutico. O mercado e a saúde pública esperam pela sua expertise. Vamos juntos tornar essa jornada brilhante! Página do evento: https://unimax.grupounieduk.com.br/eventos/receptivo-alunos-farmacia-unimax/
LOCATION:Av. Nove de Dezembro\, 460 - Jardim Pedroso\, Indaiatuba
END:VEVENT
END:VCALENDAR
