BEGIN:VCALENDAR
VERSION:2.0
PRODID:-//SeuSite//Evento WP//PT-BR
CALSCALE:GREGORIAN
BEGIN:VEVENT
UID:134326-69e512da48a9f
DTSTAMP:20260419T173730Z
DTSTART;TZID=America/Sao_Paulo:20260205T190000
DTEND;TZID=America/Sao_Paulo:20260205T213000
SUMMARY:Receptivo alunos Enfermagem.
DESCRIPTION:O Receptivo de Enfermagem para veteranos marca o retorno ao campo de batalha: a prática assistencial. Este é o momento de alinhar os novos protocolos de segurança\, organizar as escalas de estágio e reforçar o nosso compromisso com a excelência clínica. Estamos aqui para oferecer o suporte necessário para que vocês desenvolvam autonomia na gestão do cuidado e liderança de equipe. O hospital espera por vocês\, e nós estamos aqui para garantir que sua trajetória seja segura e brilhante. Página do evento: https://unimax.grupounieduk.com.br/eventos/receptivo-alunos-enfermagem/
LOCATION:Av. Nove de Dezembro\, 460 - Jardim Pedroso\, Indaiatuba
END:VEVENT
END:VCALENDAR
