BEGIN:VCALENDAR
VERSION:2.0
PRODID:-//SeuSite//Evento WP//PT-BR
CALSCALE:GREGORIAN
BEGIN:VEVENT
UID:133860-69e4fa200652c
DTSTAMP:20260419T155200Z
DTSTART;TZID=America/Sao_Paulo:20260128T193000
DTEND;TZID=America/Sao_Paulo:20260128T203000
SUMMARY:Projeto 100% Saúde
DESCRIPTION:Esse projeto ocorre semanalmente toda Quarta-feira exceto feriados\, Página do evento: https://unimax.grupounieduk.com.br/eventos/projeto-100-saude-51/
LOCATION:R. Humaitá\, 1167 - Centro\, Indaiatuba 
END:VEVENT
END:VCALENDAR
