BEGIN:VCALENDAR
VERSION:2.0
PRODID:-//SeuSite//Evento WP//PT-BR
CALSCALE:GREGORIAN
BEGIN:VEVENT
UID:133856-69e4e30ebacd1
DTSTAMP:20260419T141334Z
DTSTART;TZID=America/Sao_Paulo:20260114T193000
DTEND;TZID=America/Sao_Paulo:20260114T203000
SUMMARY:Projeto 100% Saúde
DESCRIPTION:Esse projeto ocorre semanalmente todas as quartas feiras\, exceto feriados.  Página do evento: https://unimax.grupounieduk.com.br/eventos/projeto-100-saude-48/
LOCATION: R. Humaitá\, 1167 - Centro\, Indaiatuba 
END:VEVENT
END:VCALENDAR
