BEGIN:VCALENDAR
VERSION:2.0
PRODID:-//SeuSite//Evento WP//PT-BR
CALSCALE:GREGORIAN
BEGIN:VEVENT
UID:131607-69e4e30f30ab2
DTSTAMP:20260419T141335Z
DTSTART;TZID=America/Sao_Paulo:20251217T193000
DTEND;TZID=America/Sao_Paulo:20251217T203000
SUMMARY:Projeto 100% Saúde
DESCRIPTION:Este projeto ocorre semanalmente todas as quartas feiras exceto feriados.  Página do evento: https://unimax.grupounieduk.com.br/eventos/projeto-100-saude-46/
LOCATION:R. Humaitá\, 1167 - Centro\, Indaiatuba - Câmara Municipal de Indaiatuba
END:VEVENT
END:VCALENDAR
