BEGIN:VCALENDAR
VERSION:2.0
PRODID:-//SeuSite//Evento WP//PT-BR
CALSCALE:GREGORIAN
BEGIN:VEVENT
UID:131601-69e4e30f64f70
DTSTAMP:20260419T141335Z
DTSTART;TZID=America/Sao_Paulo:20251126T193000
DTEND;TZID=America/Sao_Paulo:20251126T203000
SUMMARY:Projeto 100% Saúde
DESCRIPTION:Este evento ocorre semanalmente todas as quartas feiras exceto feriados.  Página do evento: https://unimax.grupounieduk.com.br/eventos/projeto-100-saude-43/
LOCATION:R. Humaitá\, 1167 - Centro\, Indaiatuba - Câmara Municipal de Indaiatuba
END:VEVENT
END:VCALENDAR
