BEGIN:VCALENDAR
VERSION:2.0
PRODID:-//SeuSite//Evento WP//PT-BR
CALSCALE:GREGORIAN
BEGIN:VEVENT
UID:131599-69e4e3158f8a6
DTSTAMP:20260419T141341Z
DTSTART;TZID=America/Sao_Paulo:20251119T193000
DTEND;TZID=America/Sao_Paulo:20251111T203000
SUMMARY:Projeto 100% Saúde
DESCRIPTION:Este evento ocorre semanalmente todas as quartas feiras exceto feriados.  Página do evento: https://unimax.grupounieduk.com.br/eventos/projeto-100-saude-42/
LOCATION:R. Humaitá\, 1167 - Centro\, Indaiatuba - Câmara Municipal de Indaiatuba
END:VEVENT
END:VCALENDAR
