BEGIN:VCALENDAR
VERSION:2.0
PRODID:-//SeuSite//Evento WP//PT-BR
CALSCALE:GREGORIAN
BEGIN:VEVENT
UID:131587-69e4e30e9fc7d
DTSTAMP:20260419T141334Z
DTSTART;TZID=America/Sao_Paulo:20251008T193000
DTEND;TZID=America/Sao_Paulo:20251008T203000
SUMMARY:Projeto 100% Saúde
DESCRIPTION:Este projeto ocorre semanalmente todas as quartas feiras exceto feriados.  Página do evento: https://unimax.grupounieduk.com.br/eventos/projeto-100-saude-36/
LOCATION:R. Humaitá\, 1167 - Centro\, Indaiatuba - Câmara Municipal de Indaiatuba
END:VEVENT
END:VCALENDAR
