BEGIN:VCALENDAR
VERSION:2.0
PRODID:-//SeuSite//Evento WP//PT-BR
CALSCALE:GREGORIAN
BEGIN:VEVENT
UID:134306-69e4fc3ddf9f7
DTSTAMP:20260419T160101Z
DTSTART;TZID=America/Sao_Paulo:20260131T080000
DTEND;TZID=America/Sao_Paulo:20260131T120000
SUMMARY:Pós graduação - Ultrassonografia
DESCRIPTION:É uma especialização prática e técnica voltada para médicos que desejam dominar o uso do som como ferramenta de diagnóstico. É uma das áreas mais dinâmicas da medicina\, pois o "ultrassom" é hoje o braço direito do exame físico moderno. Página do evento: https://unimax.grupounieduk.com.br/eventos/pos-graduacao-ultrassonografia/
LOCATION:Av. Nove de Dezembro\, 460 - Jardim Pedroso\, Indaiatuba
END:VEVENT
END:VCALENDAR
