BEGIN:VCALENDAR
VERSION:2.0
PRODID:-//SeuSite//Evento WP//PT-BR
CALSCALE:GREGORIAN
BEGIN:VEVENT
UID:134460-69e52a194e072
DTSTAMP:20260419T191641Z
DTSTART;TZID=America/Sao_Paulo:20260211T190000
DTEND;TZID=America/Sao_Paulo:20260211T214000
SUMMARY:Palestra Prática Nutrição UniMAX - Descobertas e além: explorando sentidos na UAN
DESCRIPTION:Como o termo "UAN" refere-se a locais onde se produz refeições (restaurantes hospitalares\, industriais ou escolares)\, esse título sugere uma iniciativa que vai além do básico "preparar comida.  Página do evento: https://unimax.grupounieduk.com.br/eventos/palestra-pratica-nutricao-unimax-descobertas-e-alem-explorando-sentidos-na-uan/
LOCATION:Sala 44 Prédio Verde - UniMAX Campus I 
END:VEVENT
END:VCALENDAR
