BEGIN:VCALENDAR
VERSION:2.0
PRODID:-//SeuSite//Evento WP//PT-BR
CALSCALE:GREGORIAN
BEGIN:VEVENT
UID:132672-69e74a4785a06
DTSTAMP:20260421T095831Z
DTSTART;TZID=America/Sao_Paulo:20251011T190000
DTEND;TZID=America/Sao_Paulo:20251011T210000
SUMMARY:Leading Minds
DESCRIPTION:Nesta edição especial\, vamos mergulhar na trajetória inspiradora do Prof. Hércules Domingues\, nosso Pró-Reitor Acadêmico\, que traz à tona o tema “Coração Militar\, Alma Educadora". Uma conversa sobre propósito\, superação e aprendizado. Página do evento: https://unimax.grupounieduk.com.br/eventos/leading-minds/
LOCATION:Av. Nove de Dezembro\, 460 - Jardim Pedroso\, Indaiatuba
END:VEVENT
END:VCALENDAR
