BEGIN:VCALENDAR
VERSION:2.0
PRODID:-//SeuSite//Evento WP//PT-BR
CALSCALE:GREGORIAN
BEGIN:VEVENT
UID:133441-69e4e2d1e3525
DTSTAMP:20260419T141233Z
DTSTART;TZID=America/Sao_Paulo:20251209T190000
DTEND;TZID=America/Sao_Paulo:20251209T210000
SUMMARY:III Simpósio de Inteligência Artificial
DESCRIPTION:“Da inovação à ética: construindo o amanhã com tecnologia e responsabilidade” — um convite para você compartilhar experiências\, debater a transformação educacional\, apresentar casos de sucesso em sala e refletir sobre os desafios da tecnologia.

 Página do evento: https://unimax.grupounieduk.com.br/eventos/iii-simposio-de-inteligencia-artificial-2/
LOCATION:Av. Nove de Dezembro\, 460 - Jardim Pedroso\, Indaiatuba
END:VEVENT
END:VCALENDAR
