BEGIN:VCALENDAR
VERSION:2.0
PRODID:-//SeuSite//Evento WP//PT-BR
CALSCALE:GREGORIAN
BEGIN:VEVENT
UID:134441-69e52a197c91a
DTSTAMP:20260419T191641Z
DTSTART;TZID=America/Sao_Paulo:20260220T190000
DTEND;TZID=America/Sao_Paulo:20260220T220000
SUMMARY:Formatura Residentes HAOC
DESCRIPTION:O ciclo da residência no HAOC chega ao seu momento mais esperado: a formatura! Foram anos de dedicação total à saúde\, transformando teoria em prática e cuidado em esperança. Saímos hoje com a bagagem cheia de experiências e o coração grato por cada vida que passou por nós nos ambulatórios e enfermarias.

 Página do evento: https://unimax.grupounieduk.com.br/eventos/formatura-residentes-haoc/
LOCATION:Auditório UniMAX 
END:VEVENT
END:VCALENDAR
