BEGIN:VCALENDAR
VERSION:2.0
PRODID:-//SeuSite//Evento WP//PT-BR
CALSCALE:GREGORIAN
BEGIN:VEVENT
UID:132698-69e4da4742cef
DTSTAMP:20260419T133607Z
DTSTART;TZID=America/Sao_Paulo:20250927T083000
DTEND;TZID=America/Sao_Paulo:20250927T110000
SUMMARY:Formação em Elaboração de Ítens
DESCRIPTION:Será uma oficina de elaboração de itens para avaliação\, voltada para os professores do grupo\, visando garantir aos docentes apoio no processo de avaliação educacional.
Essa oficina faz parte das ações desenvolvidas pela Comissão de Avaliação Interinstitucional e do projeto de capacitação das nossas equipes para o aprimoramento contínuo da qualidade dos cursos e do processo de formação dos nossos alunos. Página do evento: https://unimax.grupounieduk.com.br/eventos/formacao-em-elaboracao-de-itens/
LOCATION:Av. Nove de Dezembro\, 460 - Jardim Pedroso\, Indaiatuba
END:VEVENT
END:VCALENDAR
