BEGIN:VCALENDAR
VERSION:2.0
PRODID:-//SeuSite//Evento WP//PT-BR
CALSCALE:GREGORIAN
BEGIN:VEVENT
UID:133749-69e344a34c37c
DTSTAMP:20260418T084523Z
DTSTART;TZID=America/Sao_Paulo:20260205T080000
DTEND;TZID=America/Sao_Paulo:20260205T170000
SUMMARY:Equine 360º
DESCRIPTION:Um evento idealizado para ampliar o nível técnico e científico da medicina equina no país. Realizado na UniMAX\, o encontro propõe uma experiência imersiva que une conhecimento aprofundado\, aplicação prática e integração entre profissionais\, estudantes e entusiastas da área. Página do evento: https://unimax.grupounieduk.com.br/eventos/equine-360o/
LOCATION:Av. Nove de Dezembro\, 460 - Jardim Pedroso\, Indaiatuba 
END:VEVENT
END:VCALENDAR
