BEGIN:VCALENDAR
VERSION:2.0
PRODID:-//SeuSite//Evento WP//PT-BR
CALSCALE:GREGORIAN
BEGIN:VEVENT
UID:133754-69e512cc4b333
DTSTAMP:20260419T173716Z
DTSTART;TZID=America/Sao_Paulo:20260207T080000
DTEND;TZID=America/Sao_Paulo:20260207T170000
SUMMARY:Equine 360º
DESCRIPTION:Um evento idealizado para ampliar o nível técnico e científico da medicina equina no país. Realizado na UniMAX\, o encontro propõe uma experiência imersiva que une conhecimento aprofundado\, aplicação prática e integração entre profissionais\, estudantes e entusiastas da área.
 Página do evento: https://unimax.grupounieduk.com.br/eventos/equine-360o-3/
LOCATION:Av. Nove de Dezembro\, 460 - Jardim Pedroso\, Indaiatuba
END:VEVENT
END:VCALENDAR
