BEGIN:VCALENDAR
VERSION:2.0
PRODID:-//SeuSite//Evento WP//PT-BR
CALSCALE:GREGORIAN
BEGIN:VEVENT
UID:133302-69e346346ae53
DTSTAMP:20260418T085204Z
DTSTART;TZID=America/Sao_Paulo:20251111T193000
DTEND;TZID=America/Sao_Paulo:20251111T213000
SUMMARY:EmpreendCont
DESCRIPTION:Tema: Educação financeira e o papel da gestão na sociedade

Teremos como palestrantes:
Eduardo Alonso Duarte\, bacharel em Economia pela Universidade de Sorocaba\; bacharel em Ciência de Dados pela Universidade Virtual do Estado de São Paulo\; analista de investimentos CNPI credenciado pela APIMEC.
Luan Souza – Assessor de Investimentos na InvestSmartXP\, com experiência em gestão patrimonial\, crédito\, seguros e planejamento financeiro. Engenheiro de Produção\, MBA em Gestão de Processos e formação em Gestão Financeira. Página do evento: https://unimax.grupounieduk.com.br/eventos/empreendcont/
LOCATION:Av. Nove de Dezembro\, 460 - Jardim Pedroso\, Indaiatuba
END:VEVENT
END:VCALENDAR
