BEGIN:VCALENDAR
VERSION:2.0
PRODID:-//SeuSite//Evento WP//PT-BR
CALSCALE:GREGORIAN
BEGIN:VEVENT
UID:132758-69e7475325c5b
DTSTAMP:20260421T094555Z
DTSTART;TZID=America/Sao_Paulo:20250921T110000
DTEND;TZID=America/Sao_Paulo:20250921T120000
SUMMARY:Dia da Árvore
DESCRIPTION:O município\, o evento ocorrerá com o plantio de aproximadamente 400 mudas deárvores no Centro Esportivo do Jardim Morada do Sol "Rei Pelé"A participação da UNIMAX será de grande importância para o êxito desta iniciativa\, reforçando o protagonismo da instituição no incentivo à conscientização ambiental e noestímulo à responsabilidade socioambiental entre os jovens. Página do evento: https://unimax.grupounieduk.com.br/eventos/dia-da-arvore/
LOCATION:Centro Esportivo Jd. Morada do Sol 
END:VEVENT
END:VCALENDAR
