BEGIN:VCALENDAR
VERSION:2.0
PRODID:-//SeuSite//Evento WP//PT-BR
CALSCALE:GREGORIAN
BEGIN:VEVENT
UID:133327-69e4e30ee4d42
DTSTAMP:20260419T141334Z
DTSTART;TZID=America/Sao_Paulo:20251126T190000
DTEND;TZID=America/Sao_Paulo:20251126T220000
SUMMARY:Criação de Games com IA
DESCRIPTION:Neste encontro\, você terá a oportunidade de descobrir como a inteligência artificial pode transformar o processo de criação de jogos digitais. A atividade apresenta os fundamentos da programação de jogos de maneira acessível\, explorando conceitos essenciais\, ferramentas modernas e aplicações práticas de IA que potencializam a criatividade e simplificam o desenvolvimento.

Seja você iniciante ou entusiasta da área\, esta é uma chance de compreender como a tecnologia e o design se unem para construir experiências interativas inovadoras. Página do evento: https://unimax.grupounieduk.com.br/eventos/criacao-de-games-com-ia/
LOCATION:Av. Nove de Dezembro\, 460 - Jardim Pedroso\, Indaiatuba
END:VEVENT
END:VCALENDAR
