BEGIN:VCALENDAR
VERSION:2.0
PRODID:-//SeuSite//Evento WP//PT-BR
CALSCALE:GREGORIAN
BEGIN:VEVENT
UID:134058-69e36a19aca50
DTSTAMP:20260418T112513Z
DTSTART;TZID=America/Sao_Paulo:20260126T173000
DTEND;TZID=America/Sao_Paulo:20260126T200000
SUMMARY:Colação de Grau: Medicina Veterinária e Psicologia.
DESCRIPTION:A colação de grau é o ápice de uma jornada de renúncias\, estudos incansáveis e o despertar de um propósito maior. Para os formandos de Medicina\, Medicina Veterinária e Psicologia\, este momento vai além da entrega de um diploma\; é a celebração do compromisso solene com a vida\, em todas as suas formas e complexidades. Página do evento: https://unimax.grupounieduk.com.br/eventos/colacao-de-grau-medicina-veterinaria-e-psicologia/
LOCATION:Av. Nove de Dezembro\, 460 - Jardim Pedroso\, Indaiatuba
END:VEVENT
END:VCALENDAR
