BEGIN:VCALENDAR
VERSION:2.0
PRODID:-//SeuSite//Evento WP//PT-BR
CALSCALE:GREGORIAN
BEGIN:VEVENT
UID:133329-69e4e5f18898d
DTSTAMP:20260419T142553Z
DTSTART;TZID=America/Sao_Paulo:20251129T080000
DTEND;TZID=America/Sao_Paulo:20251129T130000
SUMMARY:Colação de Grau Medicina T3
DESCRIPTION:A Colação de Grau da terceira turma de Medicina marca um momento de grande significado acadêmico\, profissional e humano. Este evento celebra a conclusão de uma jornada intensa de estudo\, dedicação e superação\, que transformou estudantes em médicos preparados para atuar com competência\, ética e responsabilidade.

A cerimônia reúne docentes\, familiares e convidados para homenagear o compromisso\, a disciplina e o esforço de cada formando\, reconhecendo a importância da medicina como profissão que cuida\, acolhe e transforma vidas.

Mais do que uma formatura\, esta é a celebração do início de uma nova etapa: o início da trajetória profissional de médicos que levarão consigo o conhecimento\, os valores e a missão de servir à sociedade com excelência. Página do evento: https://unimax.grupounieduk.com.br/eventos/colacao-de-grau-medicina-t3/
LOCATION:Av. Nove de Dezembro\, 460 - Jardim Pedroso\, Indaiatuba
END:VEVENT
END:VCALENDAR
