BEGIN:VCALENDAR
VERSION:2.0
PRODID:-//SeuSite//Evento WP//PT-BR
CALSCALE:GREGORIAN
BEGIN:VEVENT
UID:134065-69e4fc96512d5
DTSTAMP:20260419T160230Z
DTSTART;TZID=America/Sao_Paulo:20260129T173000
DTEND;TZID=America/Sao_Paulo:20260129T200000
SUMMARY:Colação de Grau: Engenharia civil\, Engenharia de Controle e Automação\, Engenharia de Produção e Arquitetura e Urbanismo.
DESCRIPTION:A colação de grau é o ápice de uma jornada de renúncias\, estudos incansáveis e o despertar de um propósito maior. Para os formandos este momento vai além da entrega de um diploma\; é a celebração do compromisso solene com a vida\, em todas as suas formas e complexidades. Página do evento: https://unimax.grupounieduk.com.br/eventos/colacao-de-grau-engenharia-civil-engenharia-de-controle-e-automacao-engenharia-de-producao-e-arquitetura-e-urbanismo/
LOCATION:Av. Nove de Dezembro\, 460 - Jardim Pedroso\, Indaiatuba
END:VEVENT
END:VCALENDAR
