BEGIN:VCALENDAR
VERSION:2.0
PRODID:-//SeuSite//Evento WP//PT-BR
CALSCALE:GREGORIAN
BEGIN:VEVENT
UID:134061-69e4fa8387144
DTSTAMP:20260419T155339Z
DTSTART;TZID=America/Sao_Paulo:20260127T173000
DTEND;TZID=America/Sao_Paulo:20260127T200000
SUMMARY:Colação de Grau Biomedicina\, Enfermagem\, Farmácia\, Fisioterapia\, Nutrição\, Educação Física - Licenciatura e Educação Física -Bacharelado
DESCRIPTION:A colação de grau é o ápice de uma jornada de renúncias\, estudos incansáveis e o despertar de um propósito maior. Para os formandos este momento vai além da entrega de um diploma\; é a celebração do compromisso solene com a vida\, em todas as suas formas e complexidades. Página do evento: https://unimax.grupounieduk.com.br/eventos/colacao-de-grau-biomedicina-enfermagem-farmacia-fisioterapia-nutricao-educacao-fisica-licenciatura-e-educacao-fisica-bacharelado/
LOCATION:Av. Nove de Dezembro\, 460 - Jardim Pedroso\, Indaiatuba
END:VEVENT
END:VCALENDAR
