BEGIN:VCALENDAR
VERSION:2.0
PRODID:-//SeuSite//Evento WP//PT-BR
CALSCALE:GREGORIAN
BEGIN:VEVENT
UID:134063-69e4fa83c5b17
DTSTAMP:20260419T155339Z
DTSTART;TZID=America/Sao_Paulo:20260128T173000
DTEND;TZID=America/Sao_Paulo:20260128T200000
SUMMARY:Colação de Grau: Administração\, Ciências Contábeis\, Marketing\, Logística\, Gestão de Recursos Humanos e Direito.
DESCRIPTION:A colação de grau é o ápice de uma jornada de renúncias\, estudos incansáveis e o despertar de um propósito maior. Para os formandos este momento vai além da entrega de um diploma\; é a celebração do compromisso solene com a vida\, em todas as suas formas e complexidades. Página do evento: https://unimax.grupounieduk.com.br/eventos/colacao-de-grau-administracao-ciencias-contabeis-marketing-logistica-gestao-de-recursos-humanos-e-direito/
LOCATION:Av. Nove de Dezembro\, 460 - Jardim Pedroso\, Indaiatuba
END:VEVENT
END:VCALENDAR
