BEGIN:VCALENDAR
VERSION:2.0
PRODID:-//SeuSite//Evento WP//PT-BR
CALSCALE:GREGORIAN
BEGIN:VEVENT
UID:133435-69e4e5f192f33
DTSTAMP:20260419T142553Z
DTSTART;TZID=America/Sao_Paulo:20251204T190000
DTEND;TZID=America/Sao_Paulo:20251204T213000
SUMMARY:Ciclo de Simulação Enfermagem
DESCRIPTION:Ciclo de simulação de enfermagem \, para o oitavo de semestre de enfermagem \, 8 salas do CEEM serão usadas para a atividade \, cada aluno ficará 10 minutos em cada modulo  Página do evento: https://unimax.grupounieduk.com.br/eventos/ciclo-de-simulacao-enfermagem-4/
LOCATION:Av. Nove de Dezembro\, 460 - Jardim Pedroso\, Indaiatuba 
END:VEVENT
END:VCALENDAR
