BEGIN:VCALENDAR
VERSION:2.0
PRODID:-//SeuSite//Evento WP//PT-BR
CALSCALE:GREGORIAN
BEGIN:VEVENT
UID:134444-69e529dc8785d
DTSTAMP:20260419T191540Z
DTSTART;TZID=America/Sao_Paulo:20260224T190000
DTEND;TZID=America/Sao_Paulo:20260224T220000
SUMMARY:Aula Magna UniMAX - Tecnólogos\, Administração e Contábeis.
DESCRIPTION:A Aula Magna dos cursos de Administração\, Contábeis e Tecnólogos marca o início de uma trajetória focada em resultados e visão estratégica. Mais do que gerir recursos\, estamos aqui para aprender a liderar o futuro. Que este encontro desperte o espírito empreendedor e a precisão técnica necessária para vencer os desafios do cenário econômico atual.

Bem-vindos ao ponto de partida da sua evolução profissional! 📊💼 Página do evento: https://unimax.grupounieduk.com.br/eventos/aula-magna-unimax-tecnologos-administracao-e-contabeis/
LOCATION:Av. Nove de Dezembro\, 460 - Jardim Pedroso\, Indaiatuba
END:VEVENT
END:VCALENDAR
