BEGIN:VCALENDAR
VERSION:2.0
PRODID:-//SeuSite//Evento WP//PT-BR
CALSCALE:GREGORIAN
BEGIN:VEVENT
UID:134499-69e52a19741d2
DTSTAMP:20260419T191641Z
DTSTART;TZID=America/Sao_Paulo:20260225T190000
DTEND;TZID=America/Sao_Paulo:20260225T220000
SUMMARY:Aula Magna - Educação Física
DESCRIPTION:Aula Magna
 Página do evento: https://unimax.grupounieduk.com.br/eventos/aula-magna-educacao-fisica/
LOCATION:Anfiteatro UniMAX 
END:VEVENT
END:VCALENDAR
