BEGIN:VCALENDAR
VERSION:2.0
PRODID:-//SeuSite//Evento WP//PT-BR
CALSCALE:GREGORIAN
BEGIN:VEVENT
UID:133312-69e4e5f5b4bb2
DTSTAMP:20260419T142557Z
DTSTART;TZID=America/Sao_Paulo:20251117T143000
DTEND;TZID=America/Sao_Paulo:20251117T173000
SUMMARY:Ação especial do Novembro Azul
DESCRIPTION:Palestrante : Professor Rodrigo Guerra\, Graduado  em Enfermagem e pós graduado em terapia intensiva e docência do ensino superior.  Professor de ensino superior na UNIMAX na  área prática do Instituto de Ensino Superior de Indaiatuba e enfermeiro intensivista do Hospital Augusto de Oliveira de Camargo.

Será um momento para reforçarmos a importância da prevenção do câncer de próstata  e a saúde do Homem\, cuidados com a saúde e bem-estar\, com orientações e informações essenciais. Página do evento: https://unimax.grupounieduk.com.br/eventos/acao-especial-do-novembro-azul/
LOCATION:Av. Nove de Dezembro\, 460 - Jardim Pedroso\, Indaiatuba
END:VEVENT
END:VCALENDAR
